BEGIN:VCALENDAR
VERSION:2.0
PRODID:-//UiT//iKnowBase//NO
CALSCALE:GREGORIAN
METHOD:PUBLISH
BEGIN:VEVENT
SUMMARY:Kurs i brukertilgang og fakturaoppfølging i Agresso
UID:1776604424637-436302@uit.no
SEQUENCE:0
STATUS:CONFIRMED
TRANSP:OPAQUE
DTSTART:20151022T090000
DTEND:20151022T120000
DTSTAMP:20151022T120000
ORGANIZER;CN=UiT:MAILTO:andres.maldonado@uit.no
LOCATION:https://uit.no/go/target/436302
DESCRIPTION:Troms&oslash;
BEGIN:VALARM
TRIGGER:-PT15M
REPEAT:1
DURATION:PT15M
ACTION:DISPLAY
DESCRIPTION:Reminder
END:VALARM
END:VEVENT
END:VCALENDAR
