BEGIN:VCALENDAR
VERSION:2.0
PRODID:-//UiT//iKnowBase//NO
CALSCALE:GREGORIAN
METHOD:PUBLISH
BEGIN:VEVENT
SUMMARY:Tvangsevakueringa av Nord-Troms og Finnmark 1944-1945
UID:1776985878344-422803@uit.no
SEQUENCE:0
STATUS:CONFIRMED
TRANSP:OPAQUE
DTSTART:20150710T120000
DTEND:20150710T140000
DTSTAMP:20150710T140000
ORGANIZER;CN=UiT:MAILTO:else.g.broderstad@uit.no
LOCATION:https://uit.no/go/target/422803
DESCRIPTION:Annet
BEGIN:VALARM
TRIGGER:-PT15M
REPEAT:1
DURATION:PT15M
ACTION:DISPLAY
DESCRIPTION:Reminder
END:VALARM
END:VEVENT
END:VCALENDAR
